BEGIN:VCALENDAR
VERSION:2.0
PRODID:-//Inner Work Path &amp; Meditation  through Rudolf Steiner&#039;s Anthroposophy by Lisa Romero - ECPv6.15.18//NONSGML v1.0//EN
CALSCALE:GREGORIAN
METHOD:PUBLISH
X-ORIGINAL-URL:https://www.innerworkpath.com
X-WR-CALDESC:Events for Inner Work Path &amp; Meditation  through Rudolf Steiner&#039;s Anthroposophy by Lisa Romero
REFRESH-INTERVAL;VALUE=DURATION:PT1H
X-Robots-Tag:noindex
X-PUBLISHED-TTL:PT1H
BEGIN:VTIMEZONE
TZID:Australia/Sydney
BEGIN:STANDARD
TZOFFSETFROM:+1100
TZOFFSETTO:+1000
TZNAME:AEST
DTSTART:20200404T160000
END:STANDARD
BEGIN:DAYLIGHT
TZOFFSETFROM:+1000
TZOFFSETTO:+1100
TZNAME:AEDT
DTSTART:20201003T160000
END:DAYLIGHT
BEGIN:STANDARD
TZOFFSETFROM:+1100
TZOFFSETTO:+1000
TZNAME:AEST
DTSTART:20210403T160000
END:STANDARD
BEGIN:DAYLIGHT
TZOFFSETFROM:+1000
TZOFFSETTO:+1100
TZNAME:AEDT
DTSTART:20211002T160000
END:DAYLIGHT
BEGIN:STANDARD
TZOFFSETFROM:+1100
TZOFFSETTO:+1000
TZNAME:AEST
DTSTART:20220402T160000
END:STANDARD
BEGIN:DAYLIGHT
TZOFFSETFROM:+1000
TZOFFSETTO:+1100
TZNAME:AEDT
DTSTART:20221001T160000
END:DAYLIGHT
END:VTIMEZONE
BEGIN:VTIMEZONE
TZID:UTC
BEGIN:STANDARD
TZOFFSETFROM:+0000
TZOFFSETTO:+0000
TZNAME:UTC
DTSTART:20140101T000000
END:STANDARD
END:VTIMEZONE
BEGIN:VEVENT
DTSTART;TZID=Australia/Sydney:20210821T170000
DTEND;TZID=Australia/Sydney:20210821T193000
DTSTAMP:20260419T143343
CREATED:20210502T093356Z
LAST-MODIFIED:20220809T092419Z
UID:10000200-1629565200-1629574200@www.innerworkpath.com
SUMMARY:Building a Community of the Spirit\, and the Dead’s Support in this Community
DESCRIPTION:Erwin Berney (1922 – 2011) \nCLICK HERE TO REGISTER
URL:https://www.innerworkpath.com/event/anthroposophys-task-for-the-michaelmas-festival/
LOCATION:Steiner House Sydney\, 307 Sussex St\, Sydney\, Australia
CATEGORIES:Complete calendar
ATTACH;FMTTYPE=image/jpeg:https://www.innerworkpath.com/wp-content/uploads/2021/05/Inaguaral-Erwin-Berney-Oration.jpg
ORGANIZER;CN="Anthroposophic Society in Australia":MAILTO:melbourneconference2015@gmail.com
END:VEVENT
BEGIN:VEVENT
DTSTART;TZID=UTC:20150926T090000
DTEND;TZID=UTC:20150926T110000
DTSTAMP:20260419T143343
CREATED:20151123T121510Z
LAST-MODIFIED:20200719T065258Z
UID:10000077-1443258000-1443265200@www.innerworkpath.com
SUMMARY:Developing Inner Capacities
DESCRIPTION:Anthroposophic Society in Australia Annual Conference\nFrom the inner work point of view it is essential that certain inner capacities are developed in order that the soul may be a creative bridge for the spiritual and earthly relationships. I will speak on how we need to stand in ourselves in order to meet the other without projecting the particular self upon the other. Letting the world speak to us by being in a gesture of learning from the schooling of life and how the inner schooling helps our capacity to perceive the spiritual in our encounters and give to the world from the place where the creative forces reside. Today there are many challenges that we are facing in being able to do this well and yet it is needed more than ever. \nClick here for Program Overview
URL:https://www.innerworkpath.com/event/developing-inner-capacities-2/
LOCATION:Sophia Mundi Steiner School\, 1 St Heliers Street\, Abbotsford\, VIC\, Australia
CATEGORIES:Australia,Complete calendar
ORGANIZER;CN="Anthroposophic Society in Australia":MAILTO:melbourneconference2015@gmail.com
END:VEVENT
BEGIN:VEVENT
DTSTART;VALUE=DATE:20150926
DTEND;VALUE=DATE:20150928
DTSTAMP:20260419T143343
CREATED:20151213T075953Z
LAST-MODIFIED:20200719T065258Z
UID:10000137-1443225600-1443398399@www.innerworkpath.com
SUMMARY:Developing Inner Capacities; towards finding and enlivening our task in the world
DESCRIPTION:Going within to find the world \nOur world task is not only for our development and growth but also for the other. Through inner training we can separate the particular personal preferences and begin to awaken to the living spiritual activity that works with us and through us into transforming the world around us “Human beings must become a partaker in the spirit in order to carry its revelations into the world.” This practical workshop is for individuals of all levels of inner training bringing understanding and practices that support healthy relationships to both the spiritual and physical worlds. \nA workshop within the Australian Anthroposophical Society Annual Conference. \nClick here for Program Overview
URL:https://www.innerworkpath.com/event/developing-inner-capacities-towards-finding-and-enlivening-our-task-in-the-world/
LOCATION:Sophia Mundi Steiner School\, 1 St Heliers Street\, Abbotsford\, VIC\, Australia
CATEGORIES:Australia,Complete calendar
ORGANIZER;CN="Anthroposophic Society in Australia":MAILTO:melbourneconference2015@gmail.com
END:VEVENT
END:VCALENDAR