BEGIN:VCALENDAR
VERSION:2.0
PRODID:-//Inner Work Path &amp; Meditation  through Rudolf Steiner&#039;s Anthroposophy by Lisa Romero - ECPv6.15.18//NONSGML v1.0//EN
CALSCALE:GREGORIAN
METHOD:PUBLISH
X-WR-CALNAME:Inner Work Path &amp; Meditation  through Rudolf Steiner&#039;s Anthroposophy by Lisa Romero
X-ORIGINAL-URL:https://www.innerworkpath.com
X-WR-CALDESC:Events for Inner Work Path &amp; Meditation  through Rudolf Steiner&#039;s Anthroposophy by Lisa Romero
REFRESH-INTERVAL;VALUE=DURATION:PT1H
X-Robots-Tag:noindex
X-PUBLISHED-TTL:PT1H
BEGIN:VTIMEZONE
TZID:UTC
BEGIN:STANDARD
TZOFFSETFROM:+0000
TZOFFSETTO:+0000
TZNAME:UTC
DTSTART:20140101T000000
END:STANDARD
END:VTIMEZONE
BEGIN:VEVENT
DTSTART;TZID=UTC:20150113T190000
DTEND;TZID=UTC:20150113T203000
DTSTAMP:20260422T113022
CREATED:20151125T115217Z
LAST-MODIFIED:20200719T064754Z
UID:10000001-1421175600-1421181000@www.innerworkpath.com
SUMMARY:Meditation and Inner Development\, the Changing Needs of Our Times
DESCRIPTION:  \n 
URL:https://www.innerworkpath.com/event/meditation-and-inner-development-the-changing-needs-of-our-times/
LOCATION:Garden City Waldorf School\, dianeh2252@aol.com\, United States
CATEGORIES:Complete calendar,North America
ORGANIZER;CN="Garden City Waldorf School":MAILTO:dianeh2252@aol.com
END:VEVENT
END:VCALENDAR