BEGIN:VCALENDAR
VERSION:2.0
PRODID:-//Inner Work Path &amp; Meditation  through Rudolf Steiner&#039;s Anthroposophy by Lisa Romero - ECPv6.15.18//NONSGML v1.0//EN
CALSCALE:GREGORIAN
METHOD:PUBLISH
X-WR-CALNAME:Inner Work Path &amp; Meditation  through Rudolf Steiner&#039;s Anthroposophy by Lisa Romero
X-ORIGINAL-URL:https://www.innerworkpath.com
X-WR-CALDESC:Events for Inner Work Path &amp; Meditation  through Rudolf Steiner&#039;s Anthroposophy by Lisa Romero
REFRESH-INTERVAL;VALUE=DURATION:PT1H
X-Robots-Tag:noindex
X-PUBLISHED-TTL:PT1H
BEGIN:VTIMEZONE
TZID:UTC
BEGIN:STANDARD
TZOFFSETFROM:+0000
TZOFFSETTO:+0000
TZNAME:UTC
DTSTART:20170101T000000
END:STANDARD
END:VTIMEZONE
BEGIN:VEVENT
DTSTART;TZID=UTC:20181026T080000
DTEND;TZID=UTC:20181027T170000
DTSTAMP:20260423T015455
CREATED:20180801T023806Z
LAST-MODIFIED:20200719T072026Z
UID:10000272-1540540800-1540659600@www.innerworkpath.com
SUMMARY:Living Stages of Inner Development
DESCRIPTION:The inner work provides accessible insights into the workings of the human soul and evolves our inner capacities to transform our outer lives.  By building a bridge between the spiritual and the earthly\, our meditative life supports the unfolding soul capacities and deepening understanding.  This workshop examines the various stages of inner development and offers examples of the most practical exercise for each step along the path.\n“Every step an individual takes affects the collective development of humanity. The world we experience now is a result of the inner work of past generations. By consciously working to understand and experience our connection to the higher worlds we are more able to fully realise and contribute to the higher unfolding of humankind” – Lisa Romero\nThese workshops are hosted by the Pasadena Branch of the Anthroposophic Society and open to anyone who chooses to participate.\nFriday 8 pm – 9:30pm (Introductory Talk)\nSaturday 9:30 am- 12:30 pm and 2pm  5 pm\nSuggested donation $20 for Friday evening only or $50 for the 3 sessions.\nFor more information on this particular event\, including\, venue please call the branch on  (626) 795-7105\nClick here to open this information in printable format\n 
URL:https://www.innerworkpath.com/event/living-stages-of-inner-development/
LOCATION:Anthroposophic Society Pasadena Branch\, Pasadena\, Los Angeles\, CA\, United States
CATEGORIES:Complete calendar,North America
END:VEVENT
END:VCALENDAR