BEGIN:VCALENDAR
VERSION:2.0
PRODID:-//Inner Work Path &amp; Meditation  through Rudolf Steiner&#039;s Anthroposophy by Lisa Romero - ECPv6.15.18//NONSGML v1.0//EN
CALSCALE:GREGORIAN
METHOD:PUBLISH
X-WR-CALNAME:Inner Work Path &amp; Meditation  through Rudolf Steiner&#039;s Anthroposophy by Lisa Romero
X-ORIGINAL-URL:https://www.innerworkpath.com
X-WR-CALDESC:Events for Inner Work Path &amp; Meditation  through Rudolf Steiner&#039;s Anthroposophy by Lisa Romero
REFRESH-INTERVAL;VALUE=DURATION:PT1H
X-Robots-Tag:noindex
X-PUBLISHED-TTL:PT1H
BEGIN:VTIMEZONE
TZID:America/Los_Angeles
BEGIN:DAYLIGHT
TZOFFSETFROM:-0800
TZOFFSETTO:-0700
TZNAME:PDT
DTSTART:20170312T100000
END:DAYLIGHT
BEGIN:STANDARD
TZOFFSETFROM:-0700
TZOFFSETTO:-0800
TZNAME:PST
DTSTART:20171105T090000
END:STANDARD
BEGIN:DAYLIGHT
TZOFFSETFROM:-0800
TZOFFSETTO:-0700
TZNAME:PDT
DTSTART:20180311T100000
END:DAYLIGHT
BEGIN:STANDARD
TZOFFSETFROM:-0700
TZOFFSETTO:-0800
TZNAME:PST
DTSTART:20181104T090000
END:STANDARD
BEGIN:DAYLIGHT
TZOFFSETFROM:-0800
TZOFFSETTO:-0700
TZNAME:PDT
DTSTART:20190310T100000
END:DAYLIGHT
BEGIN:STANDARD
TZOFFSETFROM:-0700
TZOFFSETTO:-0800
TZNAME:PST
DTSTART:20191103T090000
END:STANDARD
END:VTIMEZONE
BEGIN:VEVENT
DTSTART;TZID=America/Los_Angeles:20181110T033000
DTEND;TZID=America/Los_Angeles:20181110T210000
DTSTAMP:20260425T015159
CREATED:20180919T105330Z
LAST-MODIFIED:20200719T072025Z
UID:10000295-1541820600-1541883600@www.innerworkpath.com
SUMMARY:Meditation\, Inner Development and Working in Community for World Transformation.
DESCRIPTION:Rudolf Steiner gave many exercises and meditations to strengthen the human being through the journey of developing consciousness. Lisa’s talks have been found invaluable for those wishing to establish a meditative life for the first time\, as well as for long-term meditants looking to deepen their inner development. \nA 2 part lecture – 3:30 – 5:30pm and 7 – 9pm \nPLACE:  Art Building\, Eugene Waldorf School Campus\nCOST:  $15 suggested donation at the door \nPlease direct questions and registration to:  marcia@wtee.com \nSponsored by the Waldorf Teacher Education\,Eugene and Eugene Rudolf Steiner Group \nAll welcome \nhttps://shoutout.wix.com/so/30MPaGeCR?cid=cab331a6-5832-48c8-b50d-2a34597855d4&region=42d88419-1fff-405b-beae-b0e590344363#/main
URL:https://www.innerworkpath.com/event/part-1-of-2-open-lecture/
LOCATION:Eugene Waldorf School\, 1350 McLean Blvd OR\,97405-1998\, Eugene\, OR\, United States
CATEGORIES:Complete calendar,North America
END:VEVENT
END:VCALENDAR