BEGIN:VCALENDAR
VERSION:2.0
PRODID:-//Inner Work Path &amp; Meditation  through Rudolf Steiner&#039;s Anthroposophy by Lisa Romero - ECPv6.15.18//NONSGML v1.0//EN
CALSCALE:GREGORIAN
METHOD:PUBLISH
X-WR-CALNAME:Inner Work Path &amp; Meditation  through Rudolf Steiner&#039;s Anthroposophy by Lisa Romero
X-ORIGINAL-URL:https://www.innerworkpath.com
X-WR-CALDESC:Events for Inner Work Path &amp; Meditation  through Rudolf Steiner&#039;s Anthroposophy by Lisa Romero
REFRESH-INTERVAL;VALUE=DURATION:PT1H
X-Robots-Tag:noindex
X-PUBLISHED-TTL:PT1H
BEGIN:VTIMEZONE
TZID:UTC
BEGIN:STANDARD
TZOFFSETFROM:+0000
TZOFFSETTO:+0000
TZNAME:UTC
DTSTART:20150101T000000
END:STANDARD
END:VTIMEZONE
BEGIN:VEVENT
DTSTART;VALUE=DATE:20160306
DTEND;VALUE=DATE:20160307
DTSTAMP:20260420T100442
CREATED:20160103T060453Z
LAST-MODIFIED:20200719T070014Z
UID:10000155-1457222400-1457308799@www.innerworkpath.com
SUMMARY:Working with Gender and Sexuality for the Young Child through to Puberty and Beyond (UK workshop)
DESCRIPTION:THIS COURSE HAS BEEN CHANGED FROM MARCH TO JUNE. The date is yet to be advised. \nThis workshop supports teachers\, parents\, health professionals and those working with children and adolescents to understand how gender differences and similarities work in childhood development\, human relationships and spiritual development in the changing needs of our time. \nIt outlines an understanding of how to bring a healthy picture of development in the context of Waldorf pedagogy which keeps the child united to the whole and does not cause a division in consciousness. \nWhen working out of anthroposophy we are asked not to judge the other by gender and to teach in a unisexual way. Only through deep understanding of the un-freedom of being man or woman can we contribute to the education and development of others in freedom. \nRegistration is not yet open. \nPlease Click here to REGISTER YOUR INTEREST
URL:https://www.innerworkpath.com/event/working-with-gender-and-sexuality-for-the-young-child-through-to-puberty-and-beyond-uk-workshop/
LOCATION:Michael Hall School\, Kidbrooke Park\, Forest Row\, East Sussex\,  RH18 5JA \, United Kingdom
CATEGORIES:Complete calendar,Europe
END:VEVENT
END:VCALENDAR