BEGIN:VCALENDAR
VERSION:2.0
PRODID:-//Inner Work Path &amp; Meditation  through Rudolf Steiner&#039;s Anthroposophy by Lisa Romero - ECPv6.15.18//NONSGML v1.0//EN
CALSCALE:GREGORIAN
METHOD:PUBLISH
X-WR-CALNAME:Inner Work Path &amp; Meditation  through Rudolf Steiner&#039;s Anthroposophy by Lisa Romero
X-ORIGINAL-URL:https://www.innerworkpath.com
X-WR-CALDESC:Events for Inner Work Path &amp; Meditation  through Rudolf Steiner&#039;s Anthroposophy by Lisa Romero
REFRESH-INTERVAL;VALUE=DURATION:PT1H
X-Robots-Tag:noindex
X-PUBLISHED-TTL:PT1H
BEGIN:VTIMEZONE
TZID:UTC
BEGIN:STANDARD
TZOFFSETFROM:+0000
TZOFFSETTO:+0000
TZNAME:UTC
DTSTART:20160101T000000
END:STANDARD
END:VTIMEZONE
BEGIN:VEVENT
DTSTART;TZID=UTC:20190221T183000
DTEND;TZID=UTC:20190221T200000
DTSTAMP:20260421T104151
CREATED:20190209T113704Z
LAST-MODIFIED:20200718T074154Z
UID:10000156-1550773800-1550779200@www.innerworkpath.com
SUMMARY:Social understanding\, gender\, sexuality\, technology and healthy resilience
DESCRIPTION:
URL:https://www.innerworkpath.com/event/act-feb-2019/
LOCATION:Orana Steiner School\, Unwin Place\, Weston\, ACT\, 2611\, Australia
CATEGORIES:Australia,Complete calendar
END:VEVENT
BEGIN:VEVENT
DTSTART;VALUE=DATE:20171013
DTEND;VALUE=DATE:20171016
DTSTAMP:20260421T104151
CREATED:20161114T214339Z
LAST-MODIFIED:20200719T070730Z
UID:10000052-1507852800-1508111999@www.innerworkpath.com
SUMMARY:Strengthening Meditative Practice and Inner Development
DESCRIPTION:This course describes how and why various meditations and exercises work to strengthen the soul and its relationship to the spiritual world. It offers insights and inspiration to awaken or renew individual practice in meditation\, prayer and inner development. It will convey the differences and similarities between these three paths of transformation.\nRudolf Steiner gave many exercises and meditations to strengthen the human being through its journey of developing consciousness. Together we will explore the inner work\, the birth of the higher self\, the spiritual year and how exercises can bring us closer to our own experience of these processes. This will enable us to both hold and further our daily practices.\nThose wishing to establish a meditative life and long­-term meditants have found this work invaluable in deepening their relationship to the path.\nFor booking and enquires email: innerworkpath@gmail.com\nClick here to download a flyer in PDF
URL:https://www.innerworkpath.com/event/strengthening-meditative-practice-and-inner-development/
LOCATION:Orana Steiner School\, Unwin Place\, Weston\, ACT\, 2611\, Australia
CATEGORIES:Australia,Complete calendar
END:VEVENT
END:VCALENDAR