BEGIN:VCALENDAR
VERSION:2.0
PRODID:-//Inner Work Path &amp; Meditation  through Rudolf Steiner&#039;s Anthroposophy by Lisa Romero - ECPv6.15.18//NONSGML v1.0//EN
CALSCALE:GREGORIAN
METHOD:PUBLISH
X-WR-CALNAME:Inner Work Path &amp; Meditation  through Rudolf Steiner&#039;s Anthroposophy by Lisa Romero
X-ORIGINAL-URL:https://www.innerworkpath.com
X-WR-CALDESC:Events for Inner Work Path &amp; Meditation  through Rudolf Steiner&#039;s Anthroposophy by Lisa Romero
REFRESH-INTERVAL;VALUE=DURATION:PT1H
X-Robots-Tag:noindex
X-PUBLISHED-TTL:PT1H
BEGIN:VTIMEZONE
TZID:UTC
BEGIN:STANDARD
TZOFFSETFROM:+0000
TZOFFSETTO:+0000
TZNAME:UTC
DTSTART:20170101T000000
END:STANDARD
END:VTIMEZONE
BEGIN:VEVENT
DTSTART;VALUE=DATE:20180806
DTEND;VALUE=DATE:20180807
DTSTAMP:20260422T110146
CREATED:20180801T025140Z
LAST-MODIFIED:20200719T071606Z
UID:10000277-1533513600-1533599999@www.innerworkpath.com
SUMMARY:Student Wellbeing Program for Class 8
DESCRIPTION:https://developingtheself.org/student-program/ \nWork with Class 8 students followed by Staff PD at 3:30pm and a parent evening commencing at 6:30pm
URL:https://www.innerworkpath.com/event/student-wellbeing-program-for-class-8/
LOCATION:Samford Valley Steiner School\, Samford Valley\, Brisbane\, Queensland\, Australia
CATEGORIES:Australia,Complete calendar
END:VEVENT
END:VCALENDAR