BEGIN:VCALENDAR
VERSION:2.0
PRODID:-//Inner Work Path &amp; Meditation  through Rudolf Steiner&#039;s Anthroposophy by Lisa Romero - ECPv6.15.18//NONSGML v1.0//EN
CALSCALE:GREGORIAN
METHOD:PUBLISH
X-ORIGINAL-URL:https://www.innerworkpath.com
X-WR-CALDESC:Events for Inner Work Path &amp; Meditation  through Rudolf Steiner&#039;s Anthroposophy by Lisa Romero
REFRESH-INTERVAL;VALUE=DURATION:PT1H
X-Robots-Tag:noindex
X-PUBLISHED-TTL:PT1H
BEGIN:VTIMEZONE
TZID:UTC
BEGIN:STANDARD
TZOFFSETFROM:+0000
TZOFFSETTO:+0000
TZNAME:UTC
DTSTART:20150101T000000
END:STANDARD
END:VTIMEZONE
BEGIN:VEVENT
DTSTART;VALUE=DATE:20170922
DTEND;VALUE=DATE:20170925
DTSTAMP:20260422T132346
CREATED:20170104T220237Z
LAST-MODIFIED:20200719T070731Z
UID:10000210-1506038400-1506297599@www.innerworkpath.com
SUMMARY:Working with Social Understanding\, Gender and Sexuality - Understanding and Developing the Masculine and Feminine Forces Towards Harmony
DESCRIPTION:From an esoteric view of the human being\, it can be understood that within the individual there are masculine and feminine forces that are necessary for deeper soul development. This course will explore the evolving of these masculine and feminine forces within the individual from childhood to adulthood\, what occurs when there are hindrances in this process and how these may be expressed in adolescent and adult sexuality and social behaviors. Using these insights we can support the balance of these primary forces throughout childhood to adolescence as well as discover how to rebalance ourselves through inner development exercises that support both the masculine and feminine forces required for the awakening of inner capacities.\nClick here to find out more about other gender and sexuality work by Lisa Romero\nClick here to download a PDF flyer with dates\n 
URL:https://www.innerworkpath.com/event/professional-development-2-perth/
LOCATION:West Coast Steiner School\, 15 Mayfair St\, Nollamara\, WA\, 6061\, Australia
CATEGORIES:Australia,Complete calendar
END:VEVENT
BEGIN:VEVENT
DTSTART;TZID=UTC:20170911T190000
DTEND;TZID=UTC:20170911T203000
DTSTAMP:20260422T132346
CREATED:20170614T083258Z
LAST-MODIFIED:20200719T070731Z
UID:10000253-1505156400-1505161800@www.innerworkpath.com
SUMMARY:Social Understanding\, Gender and Sexuality from Birth to Puberty and Beyond
DESCRIPTION:A lecture for parents and teachers as part of the whole school program \nThe lecture helps to recognise the relevant depth and progression anthroposophy brings to this important aspect of life and the responsibility of community in raising children and working together to promote individual wellbeing. \nIt will cover how and when we work with children and adolescents to bring the understanding of sexuality and gender in relation to where they are in their consciousness. This brings harmony between the evolving body and inner experiences that sets the ground for healthy adult experience. \nThe talk will cover the themes of the content brought to the students and some of the main issues confronting child health and wellbeing in current times\, with examples of how we can counter the unbalancing effects. We also address how to understand gender differences and similarities that both limit or free us and the contribution and struggles of the changing social structures around gender and sexuality affecting us all.
URL:https://www.innerworkpath.com/event/parent-information-evening-5/
LOCATION:West Coast Steiner School\, 15 Mayfair St\, Nollamara\, WA\, 6061\, Australia
CATEGORIES:Australia,Complete calendar
END:VEVENT
BEGIN:VEVENT
DTSTART;VALUE=DATE:20160923
DTEND;VALUE=DATE:20160924
DTSTAMP:20260422T132346
CREATED:20160825T011204Z
LAST-MODIFIED:20200719T070237Z
UID:10000163-1474588800-1474675199@www.innerworkpath.com
SUMMARY:The Inner Life of the Teacher
DESCRIPTION:Western Australia Steiner Schools’ All Staff Day\n“That’s not very Steiner?” – Renewal in the 21st Century\nLisa is contributing to this event:\nMorning Lecture  8:45am – Renewal in the 21st Century\nAfternoon session 1:15pm – The Inner Life of the Teacher\nClick Here to Download a PDF of the Day’s event \n 
URL:https://www.innerworkpath.com/event/day-workshop-for-teachers/
LOCATION:West Coast Steiner School\, 15 Mayfair St\, Nollamara\, WA\, 6061\, Australia
CATEGORIES:Australia,Complete calendar
END:VEVENT
BEGIN:VEVENT
DTSTART;TZID=UTC:20160922T190000
DTEND;TZID=UTC:20160922T203000
DTSTAMP:20260422T132346
CREATED:20160825T011310Z
LAST-MODIFIED:20200719T070237Z
UID:10000164-1474570800-1474576200@www.innerworkpath.com
SUMMARY:Building Resilience to Meet the World  - Understanding  the Complexities of Child Development in Today's World
DESCRIPTION:An open evening lecture commencing at 7- 8:30pm in the Performance Room.\nThis lecture is for parents\, caregivers\, teachers\, health professionals and anyone working with children and adolescents to help build an understanding of how we can best offer support through the various child development milestones in light of what anthroposophy offers. It will look at how we can bring a healthy picture of development in the context of Waldorf pedagogy and consider the ways in which we can help young people stay united to the whole when dealing with the common hindrances they face that can block the progressing levels of experience.
URL:https://www.innerworkpath.com/event/open-lecture-7/
LOCATION:West Coast Steiner School\, 15 Mayfair St\, Nollamara\, WA\, 6061\, Australia
CATEGORIES:Australia,Complete calendar
END:VEVENT
END:VCALENDAR